Package: TransView Version: 1.50.1 Command: /Library/Frameworks/R.framework/Resources/bin/R CMD build --keep-empty-dirs --no-resave-data TransView StartedAt: 2025-01-30 23:31:08 -0500 (Thu, 30 Jan 2025) EndedAt: 2025-01-30 23:32:15 -0500 (Thu, 30 Jan 2025) EllapsedTime: 67.1 seconds RetCode: 0 Status: OK PackageFile: TransView_1.50.1.tar.gz PackageFileSize: 1.82 MiB