Package: TransView Version: 1.50.1 Command: /Library/Frameworks/R.framework/Resources/bin/R CMD INSTALL TransView StartedAt: 2025-02-03 15:31:44 -0500 (Mon, 03 Feb 2025) EndedAt: 2025-02-03 15:32:25 -0500 (Mon, 03 Feb 2025) EllapsedTime: 41.3 seconds RetCode: 0 Status: OK