Package: TransView Version: 1.50.1 Command: rm -rf TransView.buildbin-libdir && mkdir TransView.buildbin-libdir && F:\biocbuild\bbs-3.20-bioc\R\bin\R.exe CMD INSTALL --build --library=TransView.buildbin-libdir TransView_1.50.1.tar.gz StartedAt: 2025-02-04 09:42:34 -0500 (Tue, 04 Feb 2025) EndedAt: 2025-02-04 09:44:02 -0500 (Tue, 04 Feb 2025) EllapsedTime: 88.3 seconds RetCode: 0 Status: OK PackageFile: TransView_1.50.1.zip PackageFileSize: 6.244 MiB