Package: TransView Version: 1.50.1 Command: chmod a+r TransView -R && F:\biocbuild\bbs-3.20-bioc\R\bin\R.exe CMD build --keep-empty-dirs --no-resave-data TransView StartedAt: 2025-02-03 22:40:30 -0500 (Mon, 03 Feb 2025) EndedAt: 2025-02-03 22:41:29 -0500 (Mon, 03 Feb 2025) EllapsedTime: 59.1 seconds RetCode: 0 Status: OK PackageFile: TransView_1.50.1.tar.gz PackageFileSize: 1.783 MiB