Package: TransView Version: 1.50.1 Command: /home/biocbuild/R/R/bin/R CMD build --keep-empty-dirs --no-resave-data TransView StartedAt: 2025-02-04 03:38:29 -0000 (Tue, 04 Feb 2025) EndedAt: 2025-02-04 03:39:10 -0000 (Tue, 04 Feb 2025) EllapsedTime: 41.1 seconds RetCode: 0 Status: OK PackageFile: TransView_1.50.1.tar.gz PackageFileSize: 1.871 MiB