Package: TransView Version: 1.50.1 Command: /home/biocbuild/R/R/bin/R CMD INSTALL TransView StartedAt: 2025-02-03 20:34:46 -0000 (Mon, 03 Feb 2025) EndedAt: 2025-02-03 20:35:10 -0000 (Mon, 03 Feb 2025) EllapsedTime: 23.2 seconds RetCode: 0 Status: OK