Package: TreeAndLeaf Version: 1.18.0 Command: rm -rf TreeAndLeaf.buildbin-libdir && mkdir TreeAndLeaf.buildbin-libdir && /Users/biocbuild/BBS/utils/build-universal.sh TreeAndLeaf_1.18.0.tar.gz /Library/Frameworks/R.framework/Resources/bin/R TreeAndLeaf.buildbin-libdir StartedAt: 2025-02-05 18:10:31 -0500 (Wed, 05 Feb 2025) EndedAt: 2025-02-05 18:10:38 -0500 (Wed, 05 Feb 2025) EllapsedTime: 6.6 seconds RetCode: 0 Status: OK PackageFile: TreeAndLeaf_1.18.0.tgz PackageFileSize: 3.162 MiB