Package: TreeAndLeaf Version: 1.18.0 Command: /Library/Frameworks/R.framework/Resources/bin/R CMD build --keep-empty-dirs --no-resave-data TreeAndLeaf StartedAt: 2025-02-04 10:01:21 -0500 (Tue, 04 Feb 2025) EndedAt: 2025-02-04 10:01:37 -0500 (Tue, 04 Feb 2025) EllapsedTime: 15.9 seconds RetCode: 0 Status: OK PackageFile: TreeAndLeaf_1.18.0.tar.gz PackageFileSize: 5.623 MiB