Package: TreeAndLeaf Version: 1.18.0 Command: /Library/Frameworks/R.framework/Resources/bin/R CMD INSTALL TreeAndLeaf StartedAt: 2025-02-03 16:18:05 -0500 (Mon, 03 Feb 2025) EndedAt: 2025-02-03 16:18:10 -0500 (Mon, 03 Feb 2025) EllapsedTime: 4.6 seconds RetCode: 0 Status: OK