Package: TreeAndLeaf Version: 1.18.0 Command: /Library/Frameworks/R.framework/Resources/bin/R CMD check --install=check:TreeAndLeaf.install-out.txt --library=/Library/Frameworks/R.framework/Resources/library --no-vignettes --timings TreeAndLeaf_1.18.0.tar.gz StartedAt: 2025-02-04 11:30:09 -0500 (Tue, 04 Feb 2025) EndedAt: 2025-02-04 11:31:19 -0500 (Tue, 04 Feb 2025) EllapsedTime: 70.1 seconds RetCode: 0 Status: OK CheckDir: TreeAndLeaf.Rcheck Warnings: 0