Package: TreeAndLeaf Version: 1.18.0 Command: rm -rf TreeAndLeaf.buildbin-libdir && mkdir TreeAndLeaf.buildbin-libdir && F:\biocbuild\bbs-3.20-bioc\R\bin\R.exe CMD INSTALL --build --library=TreeAndLeaf.buildbin-libdir TreeAndLeaf_1.18.0.tar.gz StartedAt: 2025-02-04 09:42:48 -0500 (Tue, 04 Feb 2025) EndedAt: 2025-02-04 09:43:06 -0500 (Tue, 04 Feb 2025) EllapsedTime: 17.5 seconds RetCode: 0 Status: OK PackageFile: TreeAndLeaf_1.18.0.zip PackageFileSize: 3.134 MiB