Package: TreeAndLeaf Version: 1.18.0 Command: F:\biocbuild\bbs-3.20-bioc\R\bin\R.exe CMD check --no-multiarch --install=check:TreeAndLeaf.install-out.txt --library=F:\biocbuild\bbs-3.20-bioc\R\library --no-vignettes --timings TreeAndLeaf_1.18.0.tar.gz StartedAt: 2025-02-11 07:10:06 -0500 (Tue, 11 Feb 2025) EndedAt: 2025-02-11 07:11:11 -0500 (Tue, 11 Feb 2025) EllapsedTime: 65.1 seconds RetCode: 0 Status: OK CheckDir: TreeAndLeaf.Rcheck Warnings: 0