Package: TreeAndLeaf Version: 1.18.0 Command: F:\biocbuild\bbs-3.20-bioc\R\bin\R.exe CMD INSTALL TreeAndLeaf StartedAt: 2025-02-10 15:42:15 -0500 (Mon, 10 Feb 2025) EndedAt: 2025-02-10 15:42:36 -0500 (Mon, 10 Feb 2025) EllapsedTime: 20.8 seconds RetCode: 0 Status: OK