Package: TreeAndLeaf Version: 1.18.0 Command: /home/biocbuild/R/R/bin/R CMD INSTALL TreeAndLeaf StartedAt: 2025-02-10 20:36:07 -0000 (Mon, 10 Feb 2025) EndedAt: 2025-02-10 20:36:12 -0000 (Mon, 10 Feb 2025) EllapsedTime: 5.1 seconds RetCode: 0 Status: OK