Package: TreeSummarizedExperiment Version: 2.14.0 Command: /Library/Frameworks/R.framework/Resources/bin/R CMD check --install=check:TreeSummarizedExperiment.install-out.txt --library=/Library/Frameworks/R.framework/Resources/library --no-vignettes --timings TreeSummarizedExperiment_2.14.0.tar.gz StartedAt: 2025-02-05 13:26:08 -0500 (Wed, 05 Feb 2025) EndedAt: 2025-02-05 13:32:29 -0500 (Wed, 05 Feb 2025) EllapsedTime: 381.3 seconds RetCode: 0 Status: OK CheckDir: TreeSummarizedExperiment.Rcheck Warnings: 0