Package: TreeSummarizedExperiment Version: 2.14.0 Command: /Library/Frameworks/R.framework/Resources/bin/R CMD build --keep-empty-dirs --no-resave-data TreeSummarizedExperiment StartedAt: 2025-02-10 23:01:31 -0500 (Mon, 10 Feb 2025) EndedAt: 2025-02-10 23:03:42 -0500 (Mon, 10 Feb 2025) EllapsedTime: 131.0 seconds RetCode: 0 Status: OK PackageFile: TreeSummarizedExperiment_2.14.0.tar.gz PackageFileSize: 1.104 MiB