Package: TreeSummarizedExperiment Version: 2.14.0 Command: /Library/Frameworks/R.framework/Resources/bin/R CMD INSTALL TreeSummarizedExperiment StartedAt: 2025-02-10 15:43:31 -0500 (Mon, 10 Feb 2025) EndedAt: 2025-02-10 15:44:42 -0500 (Mon, 10 Feb 2025) EllapsedTime: 71.0 seconds RetCode: 0 Status: OK