Package: TreeSummarizedExperiment Version: 2.14.0 Command: rm -rf TreeSummarizedExperiment.buildbin-libdir && mkdir TreeSummarizedExperiment.buildbin-libdir && F:\biocbuild\bbs-3.20-bioc\R\bin\R.exe CMD INSTALL --build --library=TreeSummarizedExperiment.buildbin-libdir TreeSummarizedExperiment_2.14.0.tar.gz StartedAt: 2025-02-11 09:41:21 -0500 (Tue, 11 Feb 2025) EndedAt: 2025-02-11 09:45:49 -0500 (Tue, 11 Feb 2025) EllapsedTime: 267.6 seconds RetCode: 0 Status: OK PackageFile: TreeSummarizedExperiment_2.14.0.zip PackageFileSize: 1.726 MiB