Package: TreeSummarizedExperiment Version: 2.14.0 Command: /home/biocbuild/R/R/bin/R CMD INSTALL TreeSummarizedExperiment StartedAt: 2025-02-03 20:47:59 -0000 (Mon, 03 Feb 2025) EndedAt: 2025-02-03 20:48:39 -0000 (Mon, 03 Feb 2025) EllapsedTime: 40.7 seconds RetCode: 0 Status: OK