Package: UCSC.utils Version: 1.2.0 Command: rm -rf UCSC.utils.buildbin-libdir && mkdir UCSC.utils.buildbin-libdir && /Users/biocbuild/BBS/utils/build-universal.sh UCSC.utils_1.2.0.tar.gz /Library/Frameworks/R.framework/Resources/bin/R UCSC.utils.buildbin-libdir StartedAt: 2025-02-01 17:17:20 -0500 (Sat, 01 Feb 2025) EndedAt: 2025-02-01 17:17:27 -0500 (Sat, 01 Feb 2025) EllapsedTime: 6.7 seconds RetCode: 0 Status: OK PackageFile: UCSC.utils_1.2.0.tgz PackageFileSize: 282.3 KiB