Package: UCSC.utils Version: 1.2.0 Command: /Library/Frameworks/R.framework/Resources/bin/R CMD check --install=check:UCSC.utils.install-out.txt --library=/Library/Frameworks/R.framework/Resources/library --no-vignettes --timings UCSC.utils_1.2.0.tar.gz StartedAt: 2025-02-01 12:49:57 -0500 (Sat, 01 Feb 2025) EndedAt: 2025-02-01 12:51:20 -0500 (Sat, 01 Feb 2025) EllapsedTime: 83.4 seconds RetCode: 0 Status: OK CheckDir: UCSC.utils.Rcheck Warnings: 0