Package: UCSC.utils Version: 1.2.0 Command: /Library/Frameworks/R.framework/Resources/bin/R CMD build --keep-empty-dirs --no-resave-data UCSC.utils StartedAt: 2025-01-30 23:36:01 -0500 (Thu, 30 Jan 2025) EndedAt: 2025-01-30 23:36:24 -0500 (Thu, 30 Jan 2025) EllapsedTime: 23.1 seconds RetCode: 0 Status: OK PackageFile: UCSC.utils_1.2.0.tar.gz PackageFileSize: 230.5 KiB