Package: UCSC.utils Version: 1.2.0 Command: /Library/Frameworks/R.framework/Resources/bin/R CMD check --install=check:UCSC.utils.install-out.txt --library=/Library/Frameworks/R.framework/Resources/library --no-vignettes --timings UCSC.utils_1.2.0.tar.gz StartedAt: 2025-01-31 11:35:43 -0500 (Fri, 31 Jan 2025) EndedAt: 2025-01-31 11:37:46 -0500 (Fri, 31 Jan 2025) EllapsedTime: 123.1 seconds RetCode: 0 Status: OK CheckDir: UCSC.utils.Rcheck Warnings: 0