Package: UCSC.utils Version: 1.2.0 Command: /Library/Frameworks/R.framework/Resources/bin/R CMD INSTALL UCSC.utils StartedAt: 2025-01-30 15:13:53 -0500 (Thu, 30 Jan 2025) EndedAt: 2025-01-30 15:14:14 -0500 (Thu, 30 Jan 2025) EllapsedTime: 20.4 seconds RetCode: 0 Status: OK