Package: UCSC.utils Version: 1.2.0 Command: chmod a+r UCSC.utils -R && F:\biocbuild\bbs-3.20-bioc\R\bin\R.exe CMD build --keep-empty-dirs --no-resave-data UCSC.utils StartedAt: 2025-02-03 22:44:14 -0500 (Mon, 03 Feb 2025) EndedAt: 2025-02-03 22:44:40 -0500 (Mon, 03 Feb 2025) EllapsedTime: 25.7 seconds RetCode: 0 Status: OK PackageFile: UCSC.utils_1.2.0.tar.gz PackageFileSize: 230.6 KiB