Package: UCSC.utils Version: 1.2.0 Command: F:\biocbuild\bbs-3.20-bioc\R\bin\R.exe CMD INSTALL UCSC.utils StartedAt: 2025-02-03 15:42:02 -0500 (Mon, 03 Feb 2025) EndedAt: 2025-02-03 15:42:22 -0500 (Mon, 03 Feb 2025) EllapsedTime: 20.0 seconds RetCode: 0 Status: OK