Package: UCSC.utils Version: 1.2.0 Command: /home/biocbuild/R/R/bin/R CMD build --keep-empty-dirs --no-resave-data UCSC.utils StartedAt: 2025-01-31 03:21:22 -0000 (Fri, 31 Jan 2025) EndedAt: 2025-01-31 03:21:42 -0000 (Fri, 31 Jan 2025) EllapsedTime: 20.0 seconds RetCode: 0 Status: OK PackageFile: UCSC.utils_1.2.0.tar.gz PackageFileSize: 256 KiB