Package: UCell Version: 2.10.1 Command: /Library/Frameworks/R.framework/Resources/bin/R CMD check --install=check:UCell.install-out.txt --library=/Library/Frameworks/R.framework/Resources/library --no-vignettes --timings UCell_2.10.1.tar.gz StartedAt: 2025-02-05 13:42:18 -0500 (Wed, 05 Feb 2025) EndedAt: 2025-02-05 13:45:59 -0500 (Wed, 05 Feb 2025) EllapsedTime: 220.7 seconds RetCode: 0 Status: OK CheckDir: UCell.Rcheck Warnings: 0