Package: UCell Version: 2.10.1 Command: /Library/Frameworks/R.framework/Resources/bin/R CMD build --keep-empty-dirs --no-resave-data UCell StartedAt: 2025-02-03 23:05:06 -0500 (Mon, 03 Feb 2025) EndedAt: 2025-02-03 23:14:16 -0500 (Mon, 03 Feb 2025) EllapsedTime: 549.6 seconds RetCode: 0 Status: OK PackageFile: UCell_2.10.1.tar.gz PackageFileSize: 1.671 MiB