Package: UCell Version: 2.10.1 Command: /Library/Frameworks/R.framework/Resources/bin/R CMD check --install=check:UCell.install-out.txt --library=/Library/Frameworks/R.framework/Resources/library --no-vignettes --timings UCell_2.10.1.tar.gz StartedAt: 2025-02-04 11:41:52 -0500 (Tue, 04 Feb 2025) EndedAt: 2025-02-04 11:48:00 -0500 (Tue, 04 Feb 2025) EllapsedTime: 368.2 seconds RetCode: 0 Status: OK CheckDir: UCell.Rcheck Warnings: 0