Package: UCell Version: 2.10.1 Command: /home/biocbuild/bbs-3.20-bioc/R/bin/R CMD build --keep-empty-dirs --no-resave-data --md5 UCell StartedAt: 2025-02-03 19:43:52 -0500 (Mon, 03 Feb 2025) EndedAt: 2025-02-03 19:48:07 -0500 (Mon, 03 Feb 2025) EllapsedTime: 255.3 seconds RetCode: 0 Status: OK PackageFile: UCell_2.10.1.tar.gz PackageFileSize: 1.683 MiB