Package: UCell Version: 2.10.1 Command: chmod a+r UCell -R && F:\biocbuild\bbs-3.20-bioc\R\bin\R.exe CMD build --keep-empty-dirs --no-resave-data UCell StartedAt: 2025-02-03 22:44:12 -0500 (Mon, 03 Feb 2025) EndedAt: 2025-02-03 22:50:54 -0500 (Mon, 03 Feb 2025) EllapsedTime: 401.5 seconds RetCode: 0 Status: OK PackageFile: UCell_2.10.1.tar.gz PackageFileSize: 1.376 MiB