Package: UCell Version: 2.10.1 Command: /home/biocbuild/R/R/bin/R CMD build --keep-empty-dirs --no-resave-data UCell StartedAt: 2025-02-04 03:44:41 -0000 (Tue, 04 Feb 2025) EndedAt: 2025-02-04 03:51:59 -0000 (Tue, 04 Feb 2025) EllapsedTime: 437.7 seconds RetCode: 0 Status: OK PackageFile: UCell_2.10.1.tar.gz PackageFileSize: 1.56 MiB