Package: UCell Version: 2.10.1 Command: /home/biocbuild/R/R/bin/R CMD check --install=check:UCell.install-out.txt --library=/home/biocbuild/R/R/site-library --no-vignettes --timings UCell_2.10.1.tar.gz StartedAt: 2025-02-04 11:59:32 -0000 (Tue, 04 Feb 2025) EndedAt: 2025-02-04 12:03:03 -0000 (Tue, 04 Feb 2025) EllapsedTime: 210.4 seconds RetCode: 0 Status: OK CheckDir: UCell.Rcheck Warnings: 0