Package: UCell Version: 2.10.1 Command: /home/biocbuild/R/R/bin/R CMD INSTALL UCell StartedAt: 2025-02-03 20:35:42 -0000 (Mon, 03 Feb 2025) EndedAt: 2025-02-03 20:36:10 -0000 (Mon, 03 Feb 2025) EllapsedTime: 27.9 seconds RetCode: 0 Status: OK