Package: UMI4Cats Version: 1.16.0 Command: /Library/Frameworks/R.framework/Resources/bin/R CMD INSTALL UMI4Cats StartedAt: 2025-02-10 18:28:57 -0500 (Mon, 10 Feb 2025) EndedAt: 2025-02-10 18:29:47 -0500 (Mon, 10 Feb 2025) EllapsedTime: 49.5 seconds RetCode: 0 Status: OK