Package: UMI4Cats Version: 1.16.0 Command: F:\biocbuild\bbs-3.20-bioc\R\bin\R.exe CMD INSTALL UMI4Cats StartedAt: 2025-02-10 17:08:56 -0500 (Mon, 10 Feb 2025) EndedAt: 2025-02-10 17:10:01 -0500 (Mon, 10 Feb 2025) EllapsedTime: 64.6 seconds RetCode: 0 Status: OK