Package: UMI4Cats Version: 1.16.0 Command: /home/biocbuild/R/R/bin/R CMD build --keep-empty-dirs --no-resave-data UMI4Cats StartedAt: 2025-02-04 03:45:01 -0000 (Tue, 04 Feb 2025) EndedAt: 2025-02-04 03:47:55 -0000 (Tue, 04 Feb 2025) EllapsedTime: 174.3 seconds RetCode: 0 Status: OK PackageFile: UMI4Cats_1.16.0.tar.gz PackageFileSize: 3.393 MiB