Package: UMI4Cats Version: 1.16.0 Command: /home/biocbuild/R/R/bin/R CMD check --install=check:UMI4Cats.install-out.txt --library=/home/biocbuild/R/R/site-library --no-vignettes --timings UMI4Cats_1.16.0.tar.gz StartedAt: 2025-02-04 12:00:04 -0000 (Tue, 04 Feb 2025) EndedAt: 2025-02-04 12:06:53 -0000 (Tue, 04 Feb 2025) EllapsedTime: 408.7 seconds RetCode: 0 Status: OK CheckDir: UMI4Cats.Rcheck Warnings: 0