Package: UNDO Version: 1.48.0 Command: /Library/Frameworks/R.framework/Resources/bin/R CMD check --install=check:UNDO.install-out.txt --library=/Library/Frameworks/R.framework/Resources/library --no-vignettes --timings UNDO_1.48.0.tar.gz StartedAt: 2025-02-05 13:45:59 -0500 (Wed, 05 Feb 2025) EndedAt: 2025-02-05 13:46:42 -0500 (Wed, 05 Feb 2025) EllapsedTime: 42.4 seconds RetCode: 0 Status: OK CheckDir: UNDO.Rcheck Warnings: 0