Package: UNDO Version: 1.48.0 Command: /Library/Frameworks/R.framework/Resources/bin/R CMD build --keep-empty-dirs --no-resave-data UNDO StartedAt: 2025-01-30 23:36:24 -0500 (Thu, 30 Jan 2025) EndedAt: 2025-01-30 23:36:48 -0500 (Thu, 30 Jan 2025) EllapsedTime: 24.6 seconds RetCode: 0 Status: OK PackageFile: UNDO_1.48.0.tar.gz PackageFileSize: 2.853 MiB