Package: UNDO Version: 1.48.0 Command: /Library/Frameworks/R.framework/Resources/bin/R CMD check --install=check:UNDO.install-out.txt --library=/Library/Frameworks/R.framework/Resources/library --no-vignettes --timings UNDO_1.48.0.tar.gz StartedAt: 2025-02-04 11:42:49 -0500 (Tue, 04 Feb 2025) EndedAt: 2025-02-04 11:43:56 -0500 (Tue, 04 Feb 2025) EllapsedTime: 66.5 seconds RetCode: 0 Status: OK CheckDir: UNDO.Rcheck Warnings: 0