Package: UNDO Version: 1.48.0 Command: /Library/Frameworks/R.framework/Resources/bin/R CMD INSTALL UNDO StartedAt: 2025-02-03 15:13:06 -0500 (Mon, 03 Feb 2025) EndedAt: 2025-02-03 15:13:19 -0500 (Mon, 03 Feb 2025) EllapsedTime: 12.7 seconds RetCode: 0 Status: OK