Package: UNDO Version: 1.48.0 Command: /home/biocbuild/bbs-3.20-bioc/R/bin/R CMD build --keep-empty-dirs --no-resave-data --md5 UNDO StartedAt: 2025-02-03 19:44:27 -0500 (Mon, 03 Feb 2025) EndedAt: 2025-02-03 19:44:36 -0500 (Mon, 03 Feb 2025) EllapsedTime: 9.0 seconds RetCode: 0 Status: OK PackageFile: UNDO_1.48.0.tar.gz PackageFileSize: 2.854 MiB