Package: UNDO Version: 1.48.0 Command: /home/biocbuild/R/R/bin/R CMD build --keep-empty-dirs --no-resave-data UNDO StartedAt: 2025-02-04 03:45:13 -0000 (Tue, 04 Feb 2025) EndedAt: 2025-02-04 03:45:28 -0000 (Tue, 04 Feb 2025) EllapsedTime: 15.0 seconds RetCode: 0 Status: OK PackageFile: UNDO_1.48.0.tar.gz PackageFileSize: 2.845 MiB