Package: UPDhmm Version: 1.2.0 Command: F:\biocbuild\bbs-3.20-bioc\R\bin\R.exe CMD check --no-multiarch --install=check:UPDhmm.install-out.txt --library=F:\biocbuild\bbs-3.20-bioc\R\library --no-vignettes --timings UPDhmm_1.2.0.tar.gz StartedAt: 2025-02-04 07:23:11 -0500 (Tue, 04 Feb 2025) EndedAt: 2025-02-04 07:24:31 -0500 (Tue, 04 Feb 2025) EllapsedTime: 80.4 seconds RetCode: 0 Status: OK CheckDir: UPDhmm.Rcheck Warnings: 0