Package: UPDhmm Version: 1.2.0 Command: F:\biocbuild\bbs-3.20-bioc\R\bin\R.exe CMD INSTALL UPDhmm StartedAt: 2025-02-10 16:27:42 -0500 (Mon, 10 Feb 2025) EndedAt: 2025-02-10 16:27:50 -0500 (Mon, 10 Feb 2025) EllapsedTime: 7.5 seconds RetCode: 0 Status: OK