Package: UPDhmm Version: 1.2.0 Command: /home/biocbuild/R/R/bin/R CMD INSTALL UPDhmm StartedAt: 2025-02-10 20:33:17 -0000 (Mon, 10 Feb 2025) EndedAt: 2025-02-10 20:33:23 -0000 (Mon, 10 Feb 2025) EllapsedTime: 5.8 seconds RetCode: 0 Status: OK