Package: Uniquorn Version: 2.26.0 Command: rm -rf Uniquorn.buildbin-libdir && mkdir Uniquorn.buildbin-libdir && /Users/biocbuild/BBS/utils/build-universal.sh Uniquorn_2.26.0.tar.gz /Library/Frameworks/R.framework/Resources/bin/R Uniquorn.buildbin-libdir StartedAt: 2025-02-05 18:13:21 -0500 (Wed, 05 Feb 2025) EndedAt: 2025-02-05 18:14:13 -0500 (Wed, 05 Feb 2025) EllapsedTime: 51.3 seconds RetCode: 0 Status: OK PackageFile: Uniquorn_2.26.0.tgz PackageFileSize: 2.321 MiB