Package: Uniquorn Version: 2.26.0 Command: /Library/Frameworks/R.framework/Resources/bin/R CMD INSTALL Uniquorn StartedAt: 2025-02-10 15:38:12 -0500 (Mon, 10 Feb 2025) EndedAt: 2025-02-10 15:39:33 -0500 (Mon, 10 Feb 2025) EllapsedTime: 81.1 seconds RetCode: 0 Status: OK